BEGIN:VCALENDAR
VERSION:2.0
PRODID:-//Plone.org//NONSGML plone.app.event//EN
X-WR-TIMEZONE:Brazil/East
BEGIN:VEVENT
SUMMARY:Sessão Especial Dia Nacional do Líder Comunitário
DTSTART;TZID=Brazil/East;VALUE=DATE-TIME:20170505T193000
DTEND;TZID=Brazil/East;VALUE=DATE-TIME:20170505T220000
DTSTAMP;VALUE=DATE-TIME:20260420T111519Z
UID:c228c7b31bf44993acc34e1bb6574dca@www.goiania.go.leg.br
CONTACT:Ver. Tiãozinho Porto
CREATED;VALUE=DATE-TIME:20170220T124524Z
LAST-MODIFIED;VALUE=DATE-TIME:20170220T124546Z
LOCATION:Plenário
URL:https://www.goiania.go.leg.br/institucional/eventos/sessao-especial-di
 a-nacional-do-lider-comunitario
END:VEVENT
BEGIN:VTIMEZONE
TZID:Brazil/East
X-LIC-LOCATION:Brazil/East
BEGIN:STANDARD
DTSTART;VALUE=DATE-TIME:20170218T230000
TZNAME:BRT
TZOFFSETFROM:-0200
TZOFFSETTO:-0300
END:STANDARD
END:VTIMEZONE
END:VCALENDAR
