BEGIN:VCALENDAR
VERSION:2.0
PRODID:-//Plone.org//NONSGML plone.app.event//EN
X-WR-TIMEZONE:Brazil/East
BEGIN:VEVENT
SUMMARY:Sessão Especial Dia do Profissional de Educação Física.
DTSTART;TZID=Brazil/East;VALUE=DATE-TIME:20171006T193000
DTEND;TZID=Brazil/East;VALUE=DATE-TIME:20171006T220000
DTSTAMP;VALUE=DATE-TIME:20260420T115633Z
UID:7fec9b42b60e4f769e8f9fecc8ab66b2@www.goiania.go.leg.br
CONTACT:Ver. Lucas Kitão
CREATED;VALUE=DATE-TIME:20170221T114121Z
LAST-MODIFIED;VALUE=DATE-TIME:20170822T215808Z
LOCATION:Plenário da Câmara
URL:https://www.goiania.go.leg.br/institucional/eventos/sessao-especial-di
 a-do-profissional-de-educacao-fisica
END:VEVENT
BEGIN:VTIMEZONE
TZID:Brazil/East
X-LIC-LOCATION:Brazil/East
BEGIN:STANDARD
DTSTART;VALUE=DATE-TIME:20170218T230000
TZNAME:BRT
TZOFFSETFROM:-0200
TZOFFSETTO:-0300
END:STANDARD
END:VTIMEZONE
END:VCALENDAR
