BEGIN:VCALENDAR
VERSION:2.0
PRODID:-//Plone.org//NONSGML plone.app.event//EN
X-WR-TIMEZONE:Brazil/East
BEGIN:VEVENT
SUMMARY:SESSÃO ESPECIAL DE HOMENAGEM AO DIA DO GARÇOM.
DTSTART;TZID=Brazil/East;VALUE=DATE-TIME:20160810T150000
DTEND;TZID=Brazil/East;VALUE=DATE-TIME:20160810T180000
DTSTAMP;VALUE=DATE-TIME:20260420T010258Z
UID:161b693245224773aff147c64f1143ad@www.goiania.go.leg.br
CONTACT:VEREADORA DRA. CRISTINA LOPES AFONSO
CREATED;VALUE=DATE-TIME:20160801T130309Z
LAST-MODIFIED;VALUE=DATE-TIME:20160801T130314Z
LOCATION:PLENÁRIO TRAJANO GUIMARÃES
URL:https://www.goiania.go.leg.br/institucional/eventos/sessao-especial-de
 -homenagem-ao-dia-do-garcom
END:VEVENT
BEGIN:VTIMEZONE
TZID:Brazil/East
X-LIC-LOCATION:Brazil/East
BEGIN:STANDARD
DTSTART;VALUE=DATE-TIME:20160220T230000
TZNAME:BRT
TZOFFSETFROM:-0200
TZOFFSETTO:-0300
END:STANDARD
END:VTIMEZONE
END:VCALENDAR
