BEGIN:VCALENDAR
VERSION:2.0
PRODID:-//Plone.org//NONSGML plone.app.event//EN
X-WR-TIMEZONE:Brazil/East
BEGIN:VEVENT
SUMMARY:SEMINÁRIO O MUNICÍPIO E A REGULAÇÃO DO TRANSPORTE INDIVIDUAL R
 EMUNERADO DE PASSAGEIROS.
DTSTART;TZID=Brazil/East;VALUE=DATE-TIME:20170405T140000
DTEND;TZID=Brazil/East;VALUE=DATE-TIME:20170405T180000
DTSTAMP;VALUE=DATE-TIME:20260420T212326Z
UID:5f33befb76544f1d905f60c0b01cfc85@www.goiania.go.leg.br
CONTACT:VEREADOR ANDREY AZEREDO
CREATED;VALUE=DATE-TIME:20170405T144219Z
LAST-MODIFIED;VALUE=DATE-TIME:20170405T144228Z
LOCATION:AUDITÓRIO JAIME CÂMARA
URL:https://www.goiania.go.leg.br/institucional/eventos/seminario-o-munici
 pio-e-a-regulacao-do-transporte-individual-remunerado-de-passageiros
END:VEVENT
BEGIN:VTIMEZONE
TZID:Brazil/East
X-LIC-LOCATION:Brazil/East
BEGIN:STANDARD
DTSTART;VALUE=DATE-TIME:20170218T230000
TZNAME:BRT
TZOFFSETFROM:-0200
TZOFFSETTO:-0300
END:STANDARD
END:VTIMEZONE
END:VCALENDAR
