BEGIN:VCALENDAR
VERSION:2.0
PRODID:-//Plone.org//NONSGML plone.app.event//EN
X-WR-TIMEZONE:Brazil/East
BEGIN:VEVENT
SUMMARY:SEMINÁRIO DE PSICOLOGIA ONDE MINISTRAREI AULAS SOBRE PREVENÇÃO 
 A QUEIMADURAS E COMBATE A VIOLÊNCIA DOMÉSTICA.
DTSTART;TZID=Brazil/East;VALUE=DATE-TIME:20161030T083000
DTEND;TZID=Brazil/East;VALUE=DATE-TIME:20161030T160000
DTSTAMP;VALUE=DATE-TIME:20260420T021850Z
UID:b2e3cf67d39f4c5385fa5a3cabb36345@www.goiania.go.leg.br
CONTACT:VEREADORA DRA. CRISTINA LOPES AFONSO
CREATED;VALUE=DATE-TIME:20160805T151500Z
LAST-MODIFIED;VALUE=DATE-TIME:20160805T151505Z
LOCATION:AUDITÓRIO CARLOS EURICO
URL:https://www.goiania.go.leg.br/institucional/eventos/seminario-de-psico
 logia-onde-ministrarei-aulas-sobre-prevencao-a-queimaduras-e-combate-a-vio
 lencia-domestica-7
END:VEVENT
BEGIN:VTIMEZONE
TZID:Brazil/East
X-LIC-LOCATION:Brazil/East
BEGIN:DAYLIGHT
DTSTART;VALUE=DATE-TIME:20161016T010000
TZNAME:BRST
TZOFFSETFROM:-0300
TZOFFSETTO:-0200
END:DAYLIGHT
END:VTIMEZONE
END:VCALENDAR
