BEGIN:VCALENDAR
VERSION:2.0
PRODID:-//Plone.org//NONSGML plone.app.event//EN
X-WR-TIMEZONE:Brazil/East
BEGIN:VEVENT
SUMMARY:Seminário da Categoria Fiscal - SINDIFISC
DTSTART;TZID=Brazil/East;VALUE=DATE-TIME:20170518T080000
DTEND;TZID=Brazil/East;VALUE=DATE-TIME:20170518T180000
DTSTAMP;VALUE=DATE-TIME:20260420T103651Z
UID:4fd59bdb18ae4b519461fa2e44ee9064@www.goiania.go.leg.br
CONTACT:Ver.Andrey Azeredo
CREATED;VALUE=DATE-TIME:20170214T113959Z
LAST-MODIFIED;VALUE=DATE-TIME:20170321T150042Z
LOCATION:Auditorio Jaime Câmara
URL:https://www.goiania.go.leg.br/institucional/eventos/seminario-da-categ
 oria-fiscal
END:VEVENT
BEGIN:VTIMEZONE
TZID:Brazil/East
X-LIC-LOCATION:Brazil/East
BEGIN:STANDARD
DTSTART;VALUE=DATE-TIME:20170218T230000
TZNAME:BRT
TZOFFSETFROM:-0200
TZOFFSETTO:-0300
END:STANDARD
END:VTIMEZONE
END:VCALENDAR
