BEGIN:VCALENDAR
VERSION:2.0
PRODID:-//Plone.org//NONSGML plone.app.event//EN
X-WR-TIMEZONE:Brazil/East
BEGIN:VEVENT
SUMMARY:SEMINÁRIO DA CATEGORIA FISCAL DO SINDICATO DOS FUNCIONÁRIOS DE F
 ISCALIZAÇÃO MUNICIPAL DE GOIÂNIA.
DTSTART;TZID=Brazil/East;VALUE=DATE-TIME:20170519T080000
DTEND;TZID=Brazil/East;VALUE=DATE-TIME:20170519T220000
DTSTAMP;VALUE=DATE-TIME:20260420T214247Z
UID:bab789c682344682b4e4b81beed2ef5c@www.goiania.go.leg.br
CONTACT:VEREADOR ANDREY AZEREDO
CREATED;VALUE=DATE-TIME:20170424T141701Z
LAST-MODIFIED;VALUE=DATE-TIME:20170424T141706Z
LOCATION:AUDITÓRIO JAIME CÂMARA
URL:https://www.goiania.go.leg.br/institucional/eventos/seminario-da-categ
 oria-fiscal-do-sindicato-dos-funcionarios-de-fiscalizacao-municipal-de-goi
 ania-1
END:VEVENT
BEGIN:VTIMEZONE
TZID:Brazil/East
X-LIC-LOCATION:Brazil/East
BEGIN:STANDARD
DTSTART;VALUE=DATE-TIME:20170218T230000
TZNAME:BRT
TZOFFSETFROM:-0200
TZOFFSETTO:-0300
END:STANDARD
END:VTIMEZONE
END:VCALENDAR
