BEGIN:VCALENDAR
VERSION:2.0
PRODID:-//Plone.org//NONSGML plone.app.event//EN
X-WR-TIMEZONE:Brazil/East
BEGIN:VEVENT
SUMMARY:SEMANA INTERNA DE PREVENÇÃO DE ACIDENTES DE TRABALHO  - SIPAT - 
 MINISTRADO AOS SERVIDORES ADMINISTRATIVOS E PROFESSORES D REDE MUNICIPAL D
 E EDUCAÇÃO DE GOIÂNIA.
DTSTART;TZID=Brazil/East;VALUE=DATE-TIME:20171017T080000
DTEND;TZID=Brazil/East;VALUE=DATE-TIME:20171017T170000
DTSTAMP;VALUE=DATE-TIME:20260421T081018Z
UID:6b27d928ba2a4f92a44b10bc4cc75dbf@www.goiania.go.leg.br
CONTACT:VEREADOR ANDREY AZEREDO
CREATED;VALUE=DATE-TIME:20170828T124630Z
LAST-MODIFIED;VALUE=DATE-TIME:20170828T124635Z
LOCATION:AUDITÓRIO JAIME CÂMARA
URL:https://www.goiania.go.leg.br/institucional/eventos/semana-interna-de-
 prevencao-de-acidentes-de-trabalho-sipat-ministrado-aos-servidores-adminis
 trativos-e-professores-d-rede-municipal-de-educacao-de-goiania-1
END:VEVENT
BEGIN:VTIMEZONE
TZID:Brazil/East
X-LIC-LOCATION:Brazil/East
BEGIN:DAYLIGHT
DTSTART;VALUE=DATE-TIME:20171015T010000
TZNAME:BRST
TZOFFSETFROM:-0300
TZOFFSETTO:-0200
END:DAYLIGHT
END:VTIMEZONE
END:VCALENDAR
