BEGIN:VCALENDAR
VERSION:2.0
PRODID:-//Plone.org//NONSGML plone.app.event//EN
X-WR-TIMEZONE:Brazil/East
BEGIN:VEVENT
SUMMARY:SEMANA DE PROTEÇÃO AO ANIMAL.
DTSTART;TZID=Brazil/East;VALUE=DATE-TIME:20170822T080000
DTEND;TZID=Brazil/East;VALUE=DATE-TIME:20170822T180000
DTSTAMP;VALUE=DATE-TIME:20260421T035612Z
UID:1686459f74f6438cbe63b7bf90fbabf6@www.goiania.go.leg.br
CONTACT:VEREADORA PRISCILLA TEJOTA
CREATED;VALUE=DATE-TIME:20170629T101347Z
LAST-MODIFIED;VALUE=DATE-TIME:20170629T101355Z
LOCATION:AUDITÓRIO JAIME CÂMARA
URL:https://www.goiania.go.leg.br/institucional/eventos/semana-de-protecao
 -ao-animal
END:VEVENT
BEGIN:VTIMEZONE
TZID:Brazil/East
X-LIC-LOCATION:Brazil/East
BEGIN:STANDARD
DTSTART;VALUE=DATE-TIME:20170218T230000
TZNAME:BRT
TZOFFSETFROM:-0200
TZOFFSETTO:-0300
END:STANDARD
END:VTIMEZONE
END:VCALENDAR
