BEGIN:VCALENDAR
VERSION:2.0
PRODID:-//Plone.org//NONSGML plone.app.event//EN
X-WR-TIMEZONE:Brazil/East
BEGIN:VEVENT
SUMMARY:REUNIÕES DA COMISSÃO ESPECIAL\, RELATIVO AO PLANO MUNICIPAL DE R
 ESÍDUOS SÓLIDOS DO MUNICÍPIO DE GOIÂNIA.
DTSTART;TZID=Brazil/East;VALUE=DATE-TIME:20170912T143000
DTEND;TZID=Brazil/East;VALUE=DATE-TIME:20170912T180000
DTSTAMP;VALUE=DATE-TIME:20260421T095717Z
UID:752c26fbe455411081bb316dfc2b508f@www.goiania.go.leg.br
CONTACT:VEREADOR VINÍCIUS CIRQUEIRA
CREATED;VALUE=DATE-TIME:20170912T142837Z
LAST-MODIFIED;VALUE=DATE-TIME:20170912T142849Z
LOCATION:SALA DE REUNIÃO DA PRESIDÊNCIA
URL:https://www.goiania.go.leg.br/institucional/eventos/reunioes-da-comiss
 ao-especial-relativo-ao-plano-municipal-de-residuos-solidos-do-municipio-d
 e-goiania
END:VEVENT
BEGIN:VTIMEZONE
TZID:Brazil/East
X-LIC-LOCATION:Brazil/East
BEGIN:STANDARD
DTSTART;VALUE=DATE-TIME:20170218T230000
TZNAME:BRT
TZOFFSETFROM:-0200
TZOFFSETTO:-0300
END:STANDARD
END:VTIMEZONE
END:VCALENDAR
