BEGIN:VCALENDAR
VERSION:2.0
PRODID:-//Plone.org//NONSGML plone.app.event//EN
X-WR-TIMEZONE:Brazil/East
BEGIN:VEVENT
SUMMARY:REUNIÕES DA COMISSÃO ESPECIAL\, RELATIVO AO PLANO MUNICIPAL DE R
 ESÍDUOS SÓLIDOS DO MUNICÍPIO DE GOIÂNIA.
DTSTART;TZID=Brazil/East;VALUE=DATE-TIME:20171128T143000
DTEND;TZID=Brazil/East;VALUE=DATE-TIME:20171128T180000
DTSTAMP;VALUE=DATE-TIME:20260421T095727Z
UID:7e2e0d52a0164116a437b607954a57b3@www.goiania.go.leg.br
CONTACT:VEREADOR VINÍCIUS CIRQUEIRA
CREATED;VALUE=DATE-TIME:20170912T144459Z
LAST-MODIFIED;VALUE=DATE-TIME:20170919T151930Z
LOCATION:SALA DE REUNIÃO DAS COMISSÕES
URL:https://www.goiania.go.leg.br/institucional/eventos/reunioes-da-comiss
 ao-especial-relativo-ao-plano-municipal-de-residuos-solidos-do-municipio-d
 e-goiania-11
END:VEVENT
BEGIN:VTIMEZONE
TZID:Brazil/East
X-LIC-LOCATION:Brazil/East
BEGIN:DAYLIGHT
DTSTART;VALUE=DATE-TIME:20171015T010000
TZNAME:BRST
TZOFFSETFROM:-0300
TZOFFSETTO:-0200
END:DAYLIGHT
END:VTIMEZONE
END:VCALENDAR
