BEGIN:VCALENDAR
VERSION:2.0
PRODID:-//Plone.org//NONSGML plone.app.event//EN
X-WR-TIMEZONE:Brazil/East
BEGIN:VEVENT
SUMMARY:REUNIÃO QUE IRÁ DISCUTIR A IMPORTÂNCIA DO ENSINO PARA PESSOAS C
 OM DEFICIÊNCIA.
DTSTART;TZID=Brazil/East;VALUE=DATE-TIME:20161018T150000
DTEND;TZID=Brazil/East;VALUE=DATE-TIME:20161018T170000
DTSTAMP;VALUE=DATE-TIME:20260420T041955Z
UID:dde1b6f1e8e24ab68deea5d38ef6b55c@www.goiania.go.leg.br
CONTACT:VEREADORA CRISTINA LOPES AFONSO
CREATED;VALUE=DATE-TIME:20161010T110505Z
LAST-MODIFIED;VALUE=DATE-TIME:20161010T110513Z
LOCATION:SALA DAS COMISSÕES DE REUNIÕES
URL:https://www.goiania.go.leg.br/institucional/eventos/reuniao-que-ira-di
 scutir-a-importancia-do-ensino-para-pessoas-com-deficiencia
END:VEVENT
BEGIN:VTIMEZONE
TZID:Brazil/East
X-LIC-LOCATION:Brazil/East
BEGIN:DAYLIGHT
DTSTART;VALUE=DATE-TIME:20161016T010000
TZNAME:BRST
TZOFFSETFROM:-0300
TZOFFSETTO:-0200
END:DAYLIGHT
END:VTIMEZONE
END:VCALENDAR
