BEGIN:VCALENDAR
VERSION:2.0
PRODID:-//Plone.org//NONSGML plone.app.event//EN
X-WR-TIMEZONE:Brazil/East
BEGIN:VEVENT
SUMMARY:REUNIÃO PARA DISCUTIR POLÍTICAS PÚBLICAS\, QUE FOMENTEM O BEM E
 STAR ANIMAL.
DTSTART;TZID=Brazil/East;VALUE=DATE-TIME:20170823T143000
DTEND;TZID=Brazil/East;VALUE=DATE-TIME:20170823T180000
DTSTAMP;VALUE=DATE-TIME:20260421T052143Z
UID:f602366b50fc4c9a848252f6f3668cfb@www.goiania.go.leg.br
CONTACT:VEREADORA PRISCILLA TEJOTA
CREATED;VALUE=DATE-TIME:20170815T095117Z
LAST-MODIFIED;VALUE=DATE-TIME:20170815T095122Z
LOCATION:SALA DE REUNIÕES DA PRESIDÊNCIA
URL:https://www.goiania.go.leg.br/institucional/eventos/reuniao-para-discu
 tir-politicas-publicas-que-fomentem-o-bem-estar-animal
END:VEVENT
BEGIN:VTIMEZONE
TZID:Brazil/East
X-LIC-LOCATION:Brazil/East
BEGIN:STANDARD
DTSTART;VALUE=DATE-TIME:20170218T230000
TZNAME:BRT
TZOFFSETFROM:-0200
TZOFFSETTO:-0300
END:STANDARD
END:VTIMEZONE
END:VCALENDAR
