BEGIN:VCALENDAR
VERSION:2.0
PRODID:-//Plone.org//NONSGML plone.app.event//EN
X-WR-TIMEZONE:Brazil/East
BEGIN:VEVENT
SUMMARY:REUNIÃO PARA DISCUTIR O PLANO DE CARREIRA ÚNICA DA GUARDA CIVIL 
 METROPOLITANA.
DTSTART;TZID=Brazil/East;VALUE=DATE-TIME:20170428T183000
DTEND;TZID=Brazil/East;VALUE=DATE-TIME:20170428T220000
DTSTAMP;VALUE=DATE-TIME:20260420T210005Z
UID:a8a9a5d2a8d24f16b10c047073771003@www.goiania.go.leg.br
CONTACT:VEREADOR VINICIUS CIRQUEIRA
CREATED;VALUE=DATE-TIME:20170418T111520Z
LAST-MODIFIED;VALUE=DATE-TIME:20170418T111525Z
LOCATION:AUDITÓRIO CARLOS EURICO
URL:https://www.goiania.go.leg.br/institucional/eventos/reuniao-para-discu
 tir-o-plano-de-carreira-unica-da-guarda-civil-metropolitana-1
END:VEVENT
BEGIN:VTIMEZONE
TZID:Brazil/East
X-LIC-LOCATION:Brazil/East
BEGIN:STANDARD
DTSTART;VALUE=DATE-TIME:20170218T230000
TZNAME:BRT
TZOFFSETFROM:-0200
TZOFFSETTO:-0300
END:STANDARD
END:VTIMEZONE
END:VCALENDAR
