BEGIN:VCALENDAR
VERSION:2.0
PRODID:-//Plone.org//NONSGML plone.app.event//EN
X-WR-TIMEZONE:Brazil/East
BEGIN:VEVENT
SUMMARY:REUNIÃO PARA DEBATERMOS NOSSO PROJETO DE LEI DE Nº 088/2017.
DTSTART;TZID=Brazil/East;VALUE=DATE-TIME:20170410T130000
DTEND;TZID=Brazil/East;VALUE=DATE-TIME:20170410T180000
DTSTAMP;VALUE=DATE-TIME:20260420T185543Z
UID:13c81a709f5b46719c8552518ff97bd3@www.goiania.go.leg.br
CONTACT:VEREADOR VINICIUS CIRQUEIRA
CREATED;VALUE=DATE-TIME:20170330T131621Z
LAST-MODIFIED;VALUE=DATE-TIME:20170410T143217Z
LOCATION:AUDITÓRIO CARLOS EURICO
URL:https://www.goiania.go.leg.br/institucional/eventos/reuniao-para-debat
 ermos-nosso-projeto-de-lei-de-no-088-2017
END:VEVENT
BEGIN:VTIMEZONE
TZID:Brazil/East
X-LIC-LOCATION:Brazil/East
BEGIN:STANDARD
DTSTART;VALUE=DATE-TIME:20170218T230000
TZNAME:BRT
TZOFFSETFROM:-0200
TZOFFSETTO:-0300
END:STANDARD
END:VTIMEZONE
END:VCALENDAR
