BEGIN:VCALENDAR
VERSION:2.0
PRODID:-//Plone.org//NONSGML plone.app.event//EN
X-WR-TIMEZONE:Brazil/East
BEGIN:VEVENT
SUMMARY:REUNIÃO PARA DAR ANDAMENTO AOS TRABALHOS DA COMISSÃO DE SINDICÂ
 NCIA E PROCESSO ADMINISTRATIVO.
DTSTART;TZID=Brazil/East;VALUE=DATE-TIME:20170317T080000
DTEND;TZID=Brazil/East;VALUE=DATE-TIME:20170317T120000
DTSTAMP;VALUE=DATE-TIME:20260422T070734Z
UID:60e5196ac23349ada5be0f54d823f773@www.goiania.go.leg.br
CONTACT:LUIZ BENEDITO LIBÂNEO
CREATED;VALUE=DATE-TIME:20170315T110731Z
LAST-MODIFIED;VALUE=DATE-TIME:20170315T110738Z
LOCATION:SALA DE REUNIÃO DAS COMISSÕES
URL:https://www.goiania.go.leg.br/institucional/eventos/reuniao-para-dar-a
 ndamento-aos-trabalhos-da-comissao-de-sindicancia-e-processo-administrativ
 o
END:VEVENT
BEGIN:VTIMEZONE
TZID:Brazil/East
X-LIC-LOCATION:Brazil/East
BEGIN:STANDARD
DTSTART;VALUE=DATE-TIME:20170218T230000
TZNAME:BRT
TZOFFSETFROM:-0200
TZOFFSETTO:-0300
END:STANDARD
END:VTIMEZONE
END:VCALENDAR
