BEGIN:VCALENDAR
VERSION:2.0
PRODID:-//Plone.org//NONSGML plone.app.event//EN
X-WR-TIMEZONE:Brazil/East
BEGIN:VEVENT
SUMMARY:REUNIÃO ORDINÁRIACOM A COMISSÃO DE SEGURANÇA PÚBLICA E PATRIM
 ONIAL.
DTSTART;TZID=Brazil/East;VALUE=DATE-TIME:20170525T080000
DTEND;TZID=Brazil/East;VALUE=DATE-TIME:20170525T120000
DTSTAMP;VALUE=DATE-TIME:20260421T001524Z
UID:201d4bfddbc04111bd8b6c6cc84b93f5@www.goiania.go.leg.br
CONTACT:VEREADOR SARGENTO NOVANDIR
CREATED;VALUE=DATE-TIME:20170523T130029Z
LAST-MODIFIED;VALUE=DATE-TIME:20170523T130036Z
LOCATION:SALA DE REUNIÃO DA PRESIDÊNCIA
URL:https://www.goiania.go.leg.br/institucional/eventos/reuniao-ordinariac
 om-a-comissao-de-seguranca-publica-e-patrimonial
END:VEVENT
BEGIN:VTIMEZONE
TZID:Brazil/East
X-LIC-LOCATION:Brazil/East
BEGIN:STANDARD
DTSTART;VALUE=DATE-TIME:20170218T230000
TZNAME:BRT
TZOFFSETFROM:-0200
TZOFFSETTO:-0300
END:STANDARD
END:VTIMEZONE
END:VCALENDAR
