BEGIN:VCALENDAR
VERSION:2.0
PRODID:-//Plone.org//NONSGML plone.app.event//EN
X-WR-TIMEZONE:Brazil/East
BEGIN:VEVENT
SUMMARY:REUNIÃO ORDINÁRIA DA COMISSÃO ESPECIAL DE INQUÉRITO INSTITUÍD
 A PELA PORTARIA Nº 246/2017 - CEI DA SMT.
DTSTART;TZID=Brazil/East;VALUE=DATE-TIME:20171009T140000
DTEND;TZID=Brazil/East;VALUE=DATE-TIME:20171009T180000
DTSTAMP;VALUE=DATE-TIME:20260421T141350Z
UID:b1a6041c71a9443f8d871ddc517f5b54@www.goiania.go.leg.br
CONTACT:VEREADOR ELIAS VAZ
CREATED;VALUE=DATE-TIME:20171009T134520Z
LAST-MODIFIED;VALUE=DATE-TIME:20171009T134612Z
LOCATION:SALA DE REUNIÃO DAS COMISSÕES
URL:https://www.goiania.go.leg.br/institucional/eventos/reuniao-ordinaria-
 da-comissao-especial-de-inquerito-instituida-pela-portaria-no-246-2017-cei
 -da-smt
END:VEVENT
BEGIN:VTIMEZONE
TZID:Brazil/East
X-LIC-LOCATION:Brazil/East
BEGIN:STANDARD
DTSTART;VALUE=DATE-TIME:20170218T230000
TZNAME:BRT
TZOFFSETFROM:-0200
TZOFFSETTO:-0300
END:STANDARD
END:VTIMEZONE
END:VCALENDAR
