BEGIN:VCALENDAR
VERSION:2.0
PRODID:-//Plone.org//NONSGML plone.app.event//EN
X-WR-TIMEZONE:Brazil/East
BEGIN:VEVENT
SUMMARY:REUNIÃO ORDINÁRIA DA COMISSÃO DE SEGURANÇA PÚBLICA E PATRIMON
 IAL PARA TRATAR DA APROVAÇÃO DOS PROJETOS DE LEIS Nº 0109/2017 E 0135/2
 017.
DTSTART;TZID=Brazil/East;VALUE=DATE-TIME:20170906T080000
DTEND;TZID=Brazil/East;VALUE=DATE-TIME:20170906T090000
DTSTAMP;VALUE=DATE-TIME:20260421T083057Z
UID:40e0c9687f604e0bb8f3f3bbda60612f@www.goiania.go.leg.br
CONTACT:VEREADOR SARGENTO NOVANDIR
CREATED;VALUE=DATE-TIME:20170904T125030Z
LAST-MODIFIED;VALUE=DATE-TIME:20170904T125230Z
LOCATION:SALA DE REUNIÃO DA PRESIDÊNCIA
URL:https://www.goiania.go.leg.br/institucional/eventos/reuniao-ordinaria-
 da-comissao-de-seguranca-publica-e-patrimonial-para-tratar-da-aprovacao-do
 s-projetos-de-leis-no-0109-2017-e-0135-2017
END:VEVENT
BEGIN:VTIMEZONE
TZID:Brazil/East
X-LIC-LOCATION:Brazil/East
BEGIN:STANDARD
DTSTART;VALUE=DATE-TIME:20170218T230000
TZNAME:BRT
TZOFFSETFROM:-0200
TZOFFSETTO:-0300
END:STANDARD
END:VTIMEZONE
END:VCALENDAR
