BEGIN:VCALENDAR
VERSION:2.0
PRODID:-//Plone.org//NONSGML plone.app.event//EN
X-WR-TIMEZONE:Brazil/East
BEGIN:VEVENT
SUMMARY:REUNIÃO ORDINÁRIA DA COMISSÃO DE DIREITOS HUMANOS E CIDADANIA.
DTSTART;TZID=Brazil/East;VALUE=DATE-TIME:20170209T140000
DTEND;TZID=Brazil/East;VALUE=DATE-TIME:20170209T180000
DTSTAMP;VALUE=DATE-TIME:20260420T100247Z
UID:beb2e38eddcc4584b8ab4fd329336182@www.goiania.go.leg.br
CONTACT:VEREADOR ALYSSON LIMA
CREATED;VALUE=DATE-TIME:20170206T114202Z
LAST-MODIFIED;VALUE=DATE-TIME:20170206T114208Z
LOCATION:SALA DE REUNIÃO DA PRESIDÊNCIA
URL:https://www.goiania.go.leg.br/institucional/eventos/reuniao-ordinaria-
 da-comissao-de-direitos-humanos-e-cidadania
END:VEVENT
BEGIN:VTIMEZONE
TZID:Brazil/East
X-LIC-LOCATION:Brazil/East
BEGIN:DAYLIGHT
DTSTART;VALUE=DATE-TIME:20161016T010000
TZNAME:BRST
TZOFFSETFROM:-0300
TZOFFSETTO:-0200
END:DAYLIGHT
END:VTIMEZONE
END:VCALENDAR
