BEGIN:VCALENDAR
VERSION:2.0
PRODID:-//Plone.org//NONSGML plone.app.event//EN
X-WR-TIMEZONE:Brazil/East
BEGIN:VEVENT
SUMMARY:REUNIÃO ORDINÁRIA DA COMISSÃO DA CRIANÇA E DO ADOLESCENTE E RE
 PRESENTANTES REGIONAIS DO CONSELHO TUTELAR NO MUNICÍPIO DE GOIÂNIA.
DTSTART;TZID=Brazil/East;VALUE=DATE-TIME:20170413T080000
DTEND;TZID=Brazil/East;VALUE=DATE-TIME:20170413T090000
DTSTAMP;VALUE=DATE-TIME:20260420T172949Z
UID:2be5b3780190478781ee445f4ab9216f@www.goiania.go.leg.br
CONTACT:VEREADOR EMILSON PEREIRA
CREATED;VALUE=DATE-TIME:20170328T154733Z
LAST-MODIFIED;VALUE=DATE-TIME:20170328T154742Z
LOCATION:SALA DE REUNIÃO DAS COMISSÕES
URL:https://www.goiania.go.leg.br/institucional/eventos/reuniao-ordinaria-
 da-comissao-da-crianca-e-do-adolescente-e-representantes-regionais-do-cons
 elho-tutelar-no-municipio-de-goiania
END:VEVENT
BEGIN:VTIMEZONE
TZID:Brazil/East
X-LIC-LOCATION:Brazil/East
BEGIN:STANDARD
DTSTART;VALUE=DATE-TIME:20170218T230000
TZNAME:BRT
TZOFFSETFROM:-0200
TZOFFSETTO:-0300
END:STANDARD
END:VTIMEZONE
END:VCALENDAR
