BEGIN:VCALENDAR
VERSION:2.0
PRODID:-//Plone.org//NONSGML plone.app.event//EN
X-WR-TIMEZONE:Brazil/East
BEGIN:VEVENT
SUMMARY:REUNIÃO DO GRUPO DE TRABALHO QUE DISCUTIRÁ O PROJETO DE LEI Nº 
 086/2016.
DTSTART;TZID=Brazil/East;VALUE=DATE-TIME:20161117T143000
DTEND;TZID=Brazil/East;VALUE=DATE-TIME:20161117T180000
DTSTAMP;VALUE=DATE-TIME:20260420T082215Z
UID:dbfb6631d4bc4fd8a7e67c1d00e488b2@www.goiania.go.leg.br
CONTACT:VEREADOR ELIAS VAZ
CREATED;VALUE=DATE-TIME:20161111T122744Z
LAST-MODIFIED;VALUE=DATE-TIME:20161111T122750Z
LOCATION:SALA DE REUNIÕES DAS COMISSÕES
URL:https://www.goiania.go.leg.br/institucional/eventos/reuniao-do-grupo-d
 e-trabalho-que-discutira-o-projeto-de-lei-no-086-2016
END:VEVENT
BEGIN:VTIMEZONE
TZID:Brazil/East
X-LIC-LOCATION:Brazil/East
BEGIN:DAYLIGHT
DTSTART;VALUE=DATE-TIME:20161016T010000
TZNAME:BRST
TZOFFSETFROM:-0300
TZOFFSETTO:-0200
END:DAYLIGHT
END:VTIMEZONE
END:VCALENDAR
