BEGIN:VCALENDAR
VERSION:2.0
PRODID:-//Plone.org//NONSGML plone.app.event//EN
X-WR-TIMEZONE:Brazil/East
BEGIN:VEVENT
SUMMARY:REUNIÃO DO  GABINETE DO VEREADOR OSÉIAS VARÃO.
DTSTART;TZID=Brazil/East;VALUE=DATE-TIME:20170811T083000
DTEND;TZID=Brazil/East;VALUE=DATE-TIME:20170811T093000
DTSTAMP;VALUE=DATE-TIME:20260423T065951Z
UID:e3c1ac7313124538899acfe2beef8d21@www.goiania.go.leg.br
CONTACT:VEREADOR OSÉIAS VARÃO
CREATED;VALUE=DATE-TIME:20170810T150350Z
LAST-MODIFIED;VALUE=DATE-TIME:20170810T150355Z
LOCATION:SALA DE REUNIÃO DAS COMISSÕES
URL:https://www.goiania.go.leg.br/institucional/eventos/reuniao-do-gabinet
 e-do-vereador-oseias-varao
END:VEVENT
BEGIN:VTIMEZONE
TZID:Brazil/East
X-LIC-LOCATION:Brazil/East
BEGIN:STANDARD
DTSTART;VALUE=DATE-TIME:20170218T230000
TZNAME:BRT
TZOFFSETFROM:-0200
TZOFFSETTO:-0300
END:STANDARD
END:VTIMEZONE
END:VCALENDAR
