BEGIN:VCALENDAR
VERSION:2.0
PRODID:-//Plone.org//NONSGML plone.app.event//EN
X-WR-TIMEZONE:Brazil/East
BEGIN:VEVENT
SUMMARY:REUNIÃO DO GRUPO DE ESTUDO QUE DISCUTE O PROJETO DE LEI COMPLEMEN
 TAR Nº 015/2016 E O PROJETO DE LEI Nº 086/16.
DTSTART;TZID=Brazil/East;VALUE=DATE-TIME:20161109T143000
DTEND;TZID=Brazil/East;VALUE=DATE-TIME:20161109T180000
DTSTAMP;VALUE=DATE-TIME:20260420T082212Z
UID:103f63d64c644184a8dd0384b10c0ace@www.goiania.go.leg.br
CONTACT:VEREADOR ELIAS VAZ
CREATED;VALUE=DATE-TIME:20161108T124721Z
LAST-MODIFIED;VALUE=DATE-TIME:20161108T125349Z
LOCATION:SALA DAS COMISSÕES
URL:https://www.goiania.go.leg.br/institucional/eventos/reuniao-di-grupo-d
 e-estudo-que-discute-o-projeto-de-lei-complementar-no-015-2016-e-o-projeto
 -de-lei-no-086-16
END:VEVENT
BEGIN:VTIMEZONE
TZID:Brazil/East
X-LIC-LOCATION:Brazil/East
BEGIN:DAYLIGHT
DTSTART;VALUE=DATE-TIME:20161016T010000
TZNAME:BRST
TZOFFSETFROM:-0300
TZOFFSETTO:-0200
END:DAYLIGHT
END:VTIMEZONE
END:VCALENDAR
