BEGIN:VCALENDAR
VERSION:2.0
PRODID:-//Plone.org//NONSGML plone.app.event//EN
X-WR-TIMEZONE:Brazil/East
BEGIN:VEVENT
SUMMARY:REUNIÃO DE PROFESSORES DO COLÉGIO ESTADUAL DEPUTADO JOSÉ LUCIAN
 O.
DTSTART;TZID=Brazil/East;VALUE=DATE-TIME:20161217T190000
DTEND;TZID=Brazil/East;VALUE=DATE-TIME:20161217T220000
DTSTAMP;VALUE=DATE-TIME:20260420T042021Z
UID:948288315c0741f59c437e1b497c6dbd@www.goiania.go.leg.br
CONTACT:VEREADOR ANSELMO PEREIRA
CREATED;VALUE=DATE-TIME:20160912T112534Z
LAST-MODIFIED;VALUE=DATE-TIME:20160912T112543Z
LOCATION:AUDITÓRIO CARLOS EURICO
URL:https://www.goiania.go.leg.br/institucional/eventos/reuniao-de-profess
 ores-do-colegio-estadual-deputado-jose-luciano
END:VEVENT
BEGIN:VTIMEZONE
TZID:Brazil/East
X-LIC-LOCATION:Brazil/East
BEGIN:DAYLIGHT
DTSTART;VALUE=DATE-TIME:20161016T010000
TZNAME:BRST
TZOFFSETFROM:-0300
TZOFFSETTO:-0200
END:DAYLIGHT
END:VTIMEZONE
END:VCALENDAR
