BEGIN:VCALENDAR
VERSION:2.0
PRODID:-//Plone.org//NONSGML plone.app.event//EN
X-WR-TIMEZONE:Brazil/East
BEGIN:VEVENT
SUMMARY:REUNIÃO DE PROFESSORES DO COLÉGIO AFONSO PENA.
DTSTART;TZID=Brazil/East;VALUE=DATE-TIME:20161202T160000
DTEND;TZID=Brazil/East;VALUE=DATE-TIME:20161202T220000
DTSTAMP;VALUE=DATE-TIME:20260420T024152Z
UID:9bcc2f7c71574981b01af87708bf7934@www.goiania.go.leg.br
CONTACT:VEREADOR DJALMA ARAÚJO
CREATED;VALUE=DATE-TIME:20160817T110357Z
LAST-MODIFIED;VALUE=DATE-TIME:20160817T110403Z
LOCATION:AUDITÓRIO JAIME CÂMARA
URL:https://www.goiania.go.leg.br/institucional/eventos/reuniao-de-profess
 ores-do-colegio-afonso-pena
END:VEVENT
BEGIN:VTIMEZONE
TZID:Brazil/East
X-LIC-LOCATION:Brazil/East
BEGIN:DAYLIGHT
DTSTART;VALUE=DATE-TIME:20161016T010000
TZNAME:BRST
TZOFFSETFROM:-0300
TZOFFSETTO:-0200
END:DAYLIGHT
END:VTIMEZONE
END:VCALENDAR
