BEGIN:VCALENDAR
VERSION:2.0
PRODID:-//Plone.org//NONSGML plone.app.event//EN
X-WR-TIMEZONE:Brazil/East
BEGIN:VEVENT
SUMMARY:REUNIÃO DA FEDERÇÃO DAS ASSOCIAÇÕES E SINDICATOS DOS AMBULANT
 ES E FEIRANTES DO ESTADO DE GOIÁS.
DTSTART;TZID=Brazil/East;VALUE=DATE-TIME:20171030T140000
DTEND;TZID=Brazil/East;VALUE=DATE-TIME:20171030T180000
DTSTAMP;VALUE=DATE-TIME:20260421T140104Z
UID:30cb1ac5713a4f8c96111e8a2d08f3d9@www.goiania.go.leg.br
CONTACT:VEREADOR PAULINHO GRAUS
CREATED;VALUE=DATE-TIME:20171020T094215Z
LAST-MODIFIED;VALUE=DATE-TIME:20171020T094226Z
LOCATION:SALA DE REUNIÃO DAS COMISSÕES
URL:https://www.goiania.go.leg.br/institucional/eventos/reuniao-da-federca
 o-das-associacoes-e-sindicatos-dos-ambulantes-e-feirantes-do-estado-de-goi
 as
END:VEVENT
BEGIN:VTIMEZONE
TZID:Brazil/East
X-LIC-LOCATION:Brazil/East
BEGIN:DAYLIGHT
DTSTART;VALUE=DATE-TIME:20171015T010000
TZNAME:BRST
TZOFFSETFROM:-0300
TZOFFSETTO:-0200
END:DAYLIGHT
END:VTIMEZONE
END:VCALENDAR
