BEGIN:VCALENDAR
VERSION:2.0
PRODID:-//Plone.org//NONSGML plone.app.event//EN
X-WR-TIMEZONE:Brazil/East
BEGIN:VEVENT
SUMMARY:REUNIÃO DA FEDERAÇÃO GOIANA DAS ASSOCIAÇÕES DE MORADORES QUE 
 IRÃO DISCUTIR SOBRE OS ASSUNTOS PERTINENTES A FEDERAÇÃO.
DTSTART;TZID=Brazil/East;VALUE=DATE-TIME:20170527T080000
DTEND;TZID=Brazil/East;VALUE=DATE-TIME:20170527T180000
DTSTAMP;VALUE=DATE-TIME:20260420T225918Z
UID:e2737f99cd9c45f8a1d4d8b7094fe042@www.goiania.go.leg.br
CONTACT:VEREADORA SABRINA GARCÊZ
CREATED;VALUE=DATE-TIME:20170504T125451Z
LAST-MODIFIED;VALUE=DATE-TIME:20170525T114120Z
LOCATION:AUDITÓRIO  CARLOS EURICO
URL:https://www.goiania.go.leg.br/institucional/eventos/reuniao-da-federac
 ao-goiana-das-associacoes-de-moradores-que-irao-discutir-sobre-os-assuntos
 -pertinentes-a-federacao
END:VEVENT
BEGIN:VTIMEZONE
TZID:Brazil/East
X-LIC-LOCATION:Brazil/East
BEGIN:STANDARD
DTSTART;VALUE=DATE-TIME:20170218T230000
TZNAME:BRT
TZOFFSETFROM:-0200
TZOFFSETTO:-0300
END:STANDARD
END:VTIMEZONE
END:VCALENDAR
