BEGIN:VCALENDAR
VERSION:2.0
PRODID:-//Plone.org//NONSGML plone.app.event//EN
X-WR-TIMEZONE:Brazil/East
BEGIN:VEVENT
SUMMARY:REUNIÃO DA COMISSÃO ESPECIAL DE INQUÉRITO QUE INVESTIGA IRREGUL
 ARIDADES NA SECRETARIA MUNICIPAL DE TRÂNSITO - SMT.
DTSTART;TZID=Brazil/East;VALUE=DATE-TIME:20170502T140000
DTEND;TZID=Brazil/East;VALUE=DATE-TIME:20170502T180000
DTSTAMP;VALUE=DATE-TIME:20260420T214207Z
UID:f889a935ec7b4ac987a343acd6f929cd@www.goiania.go.leg.br
CONTACT:VEREADOR ELIAS VAZ
CREATED;VALUE=DATE-TIME:20170424T145351Z
LAST-MODIFIED;VALUE=DATE-TIME:20170424T145356Z
LOCATION:SALA DE REUNIÃO DAS COMISSÕES
URL:https://www.goiania.go.leg.br/institucional/eventos/reuniao-da-comissa
 o-especial-de-inquerito-que-investiga-irregularidades-na-secretaria-munici
 pal-de-transito-smt
END:VEVENT
BEGIN:VTIMEZONE
TZID:Brazil/East
X-LIC-LOCATION:Brazil/East
BEGIN:STANDARD
DTSTART;VALUE=DATE-TIME:20170218T230000
TZNAME:BRT
TZOFFSETFROM:-0200
TZOFFSETTO:-0300
END:STANDARD
END:VTIMEZONE
END:VCALENDAR
