BEGIN:VCALENDAR
VERSION:2.0
PRODID:-//Plone.org//NONSGML plone.app.event//EN
X-WR-TIMEZONE:Brazil/East
BEGIN:VEVENT
SUMMARY:REUNIÃO DA COMISSÃO ESPECIAL DE INQUÉRITO INSTITUÍDA PELA PORT
 ARIA DE Nº 246/2017.
DTSTART;TZID=Brazil/East;VALUE=DATE-TIME:20171023T080000
DTEND;TZID=Brazil/East;VALUE=DATE-TIME:20171023T120000
DTSTAMP;VALUE=DATE-TIME:20260420T163856Z
UID:07b8b9c3458943669bd660ea4f9686a2@www.goiania.go.leg.br
CONTACT:VEREADOR ELIAS VAZ
CREATED;VALUE=DATE-TIME:20170328T114720Z
LAST-MODIFIED;VALUE=DATE-TIME:20170328T114726Z
LOCATION:SALA DE REUNIÃO DAS COMISSÕES
URL:https://www.goiania.go.leg.br/institucional/eventos/reuniao-da-comissa
 o-especial-de-inquerito-instituida-pela-portaria-de-no-246-2017-28
END:VEVENT
BEGIN:VTIMEZONE
TZID:Brazil/East
X-LIC-LOCATION:Brazil/East
BEGIN:DAYLIGHT
DTSTART;VALUE=DATE-TIME:20171015T010000
TZNAME:BRST
TZOFFSETFROM:-0300
TZOFFSETTO:-0200
END:DAYLIGHT
END:VTIMEZONE
END:VCALENDAR
