BEGIN:VCALENDAR
VERSION:2.0
PRODID:-//Plone.org//NONSGML plone.app.event//EN
X-WR-TIMEZONE:Brazil/East
BEGIN:VEVENT
SUMMARY:REUNIÃO DA COMISSÃO ESPECIAL DE INQUÉRITO INSTITUÍDA PELA PORT
 ARIA DE Nº 246/2017.
DTSTART;TZID=Brazil/East;VALUE=DATE-TIME:20170731T080000
DTEND;TZID=Brazil/East;VALUE=DATE-TIME:20170731T120000
DTSTAMP;VALUE=DATE-TIME:20260420T160242Z
UID:006947077b904dec9d6a158bdf3bc0f8@www.goiania.go.leg.br
CONTACT:VEREADOR ELIAS VAZ
CREATED;VALUE=DATE-TIME:20170328T113008Z
LAST-MODIFIED;VALUE=DATE-TIME:20170328T113015Z
LOCATION:SALA DE REUNIÃO DAS COMISSÕES
URL:https://www.goiania.go.leg.br/institucional/eventos/reuniao-da-comissa
 o-especial-de-inquerito-instituida-pela-portaria-de-no-246-2017-17
END:VEVENT
BEGIN:VTIMEZONE
TZID:Brazil/East
X-LIC-LOCATION:Brazil/East
BEGIN:STANDARD
DTSTART;VALUE=DATE-TIME:20170218T230000
TZNAME:BRT
TZOFFSETFROM:-0200
TZOFFSETTO:-0300
END:STANDARD
END:VTIMEZONE
END:VCALENDAR
