BEGIN:VCALENDAR
VERSION:2.0
PRODID:-//Plone.org//NONSGML plone.app.event//EN
X-WR-TIMEZONE:Brazil/East
BEGIN:VEVENT
SUMMARY:REUNIÃO DA COMISSÃO ESPECIAL DE INQUÉRITO - CEI DO TRANSPORTE C
 OLETIVO.
DTSTART;TZID=Brazil/East;VALUE=DATE-TIME:20170523T083000
DTEND;TZID=Brazil/East;VALUE=DATE-TIME:20170523T120000
DTSTAMP;VALUE=DATE-TIME:20260420T172726Z
UID:abb12bccd255432ab63e35ada88bddde@www.goiania.go.leg.br
CONTACT:VEREADOR CLÉCIO ALVES
CREATED;VALUE=DATE-TIME:20170329T114519Z
LAST-MODIFIED;VALUE=DATE-TIME:20170329T114525Z
LOCATION:SALA DE REUNIÃO DA PRESIDÊNCIA
URL:https://www.goiania.go.leg.br/institucional/eventos/reuniao-da-comissa
 o-especial-de-inquerito-cei-do-transporte-coletivo-15
END:VEVENT
BEGIN:VTIMEZONE
TZID:Brazil/East
X-LIC-LOCATION:Brazil/East
BEGIN:STANDARD
DTSTART;VALUE=DATE-TIME:20170218T230000
TZNAME:BRT
TZOFFSETFROM:-0200
TZOFFSETTO:-0300
END:STANDARD
END:VTIMEZONE
END:VCALENDAR
