BEGIN:VCALENDAR
VERSION:2.0
PRODID:-//Plone.org//NONSGML plone.app.event//EN
X-WR-TIMEZONE:Brazil/East
BEGIN:VEVENT
SUMMARY:REUNIÃO DA COMISSÃO DE HABITAÇÃO\, URBANISMO E ORDENAMENTO URB
 ANO.
DTSTART;TZID=Brazil/East;VALUE=DATE-TIME:20170406T080000
DTEND;TZID=Brazil/East;VALUE=DATE-TIME:20170406T090000
DTSTAMP;VALUE=DATE-TIME:20260420T190910Z
UID:516666c351dd48d8849f55a0f66bc8c9@www.goiania.go.leg.br
CONTACT:VEREADOR CARLIM CAFE
CREATED;VALUE=DATE-TIME:20170404T143137Z
LAST-MODIFIED;VALUE=DATE-TIME:20170404T143146Z
LOCATION:SALA DE REUNIÃO DAS COMISSÕES
URL:https://www.goiania.go.leg.br/institucional/eventos/reuniao-da-comissa
 o-de-habitacao-urbanismo-e-ordenamento-urbano
END:VEVENT
BEGIN:VTIMEZONE
TZID:Brazil/East
X-LIC-LOCATION:Brazil/East
BEGIN:STANDARD
DTSTART;VALUE=DATE-TIME:20170218T230000
TZNAME:BRT
TZOFFSETFROM:-0200
TZOFFSETTO:-0300
END:STANDARD
END:VTIMEZONE
END:VCALENDAR
