BEGIN:VCALENDAR
VERSION:2.0
PRODID:-//Plone.org//NONSGML plone.app.event//EN
X-WR-TIMEZONE:Brazil/East
BEGIN:VEVENT
SUMMARY:REUNIÃO DA COMISSÃO DE DIREITOS DO CONSUMIDOR.
DTSTART;TZID=Brazil/East;VALUE=DATE-TIME:20171027T080000
DTEND;TZID=Brazil/East;VALUE=DATE-TIME:20171027T120000
DTSTAMP;VALUE=DATE-TIME:20260421T141152Z
UID:1cc83b189e88452880a728efc48b9487@www.goiania.go.leg.br
CONTACT:VEREADOR DELEGADO EDUARDO PRADO
CREATED;VALUE=DATE-TIME:20171019T123742Z
LAST-MODIFIED;VALUE=DATE-TIME:20171019T123747Z
LOCATION:SALA DE REUNIÃO DAS COMISSÕES
URL:https://www.goiania.go.leg.br/institucional/eventos/reuniao-da-comissa
 o-de-direitos-do-consumidor-2
END:VEVENT
BEGIN:VTIMEZONE
TZID:Brazil/East
X-LIC-LOCATION:Brazil/East
BEGIN:DAYLIGHT
DTSTART;VALUE=DATE-TIME:20171015T010000
TZNAME:BRST
TZOFFSETFROM:-0300
TZOFFSETTO:-0200
END:DAYLIGHT
END:VTIMEZONE
END:VCALENDAR
