BEGIN:VCALENDAR
VERSION:2.0
PRODID:-//Plone.org//NONSGML plone.app.event//EN
X-WR-TIMEZONE:Brazil/East
BEGIN:VEVENT
SUMMARY:REUNIÃO DA COMISSÃO DE DIREITOS DA CRIANÇA E DO ADOLESCENTE COM
  OS MEMBROS DA CDCA E REP. REGIONAIS DO CONSELHO TUTELAR NO MUNICÍPIO DE 
 GOIÂNIA.
DTSTART;TZID=Brazil/East;VALUE=DATE-TIME:20170427T163000
DTEND;TZID=Brazil/East;VALUE=DATE-TIME:20170427T183000
DTSTAMP;VALUE=DATE-TIME:20260423T070008Z
UID:d9a36b31a8e348c9bf4182315b9fb5cc@www.goiania.go.leg.br
CONTACT:VEREADOR EMILSON PEREIRA
CREATED;VALUE=DATE-TIME:20170412T115552Z
LAST-MODIFIED;VALUE=DATE-TIME:20170412T115558Z
LOCATION:SALA DE REUNIÃO DAS COMISSÕES
URL:https://www.goiania.go.leg.br/institucional/eventos/reuniao-da-comissa
 o-de-direitos-da-crianca-e-do-adolescente-com-os-membros-da-cdca-e-rep-reg
 ionais-do-conselho-tutelar-no-municipio-de-goiania
END:VEVENT
BEGIN:VTIMEZONE
TZID:Brazil/East
X-LIC-LOCATION:Brazil/East
BEGIN:STANDARD
DTSTART;VALUE=DATE-TIME:20170218T230000
TZNAME:BRT
TZOFFSETFROM:-0200
TZOFFSETTO:-0300
END:STANDARD
END:VTIMEZONE
END:VCALENDAR
