BEGIN:VCALENDAR
VERSION:2.0
PRODID:-//Plone.org//NONSGML plone.app.event//EN
X-WR-TIMEZONE:Brazil/East
BEGIN:VEVENT
SUMMARY:REUNIÃO DA CEI DAS CONSTAS PÚBLICAS 2008/2016.
DTSTART;TZID=Brazil/East;VALUE=DATE-TIME:20170901T133000
DTEND;TZID=Brazil/East;VALUE=DATE-TIME:20170901T170000
DTSTAMP;VALUE=DATE-TIME:20260421T082502Z
UID:c50c9642b7cb46df96924324679f4a35@www.goiania.go.leg.br
CONTACT:VEREADOR JORGE KAJURU
CREATED;VALUE=DATE-TIME:20170831T130328Z
LAST-MODIFIED;VALUE=DATE-TIME:20170831T130345Z
LOCATION:SALA DE REUNIÃO DAS COMISSÕES
URL:https://www.goiania.go.leg.br/institucional/eventos/reuniao-da-cei-das
 -constas-publicas-2008-2016
END:VEVENT
BEGIN:VTIMEZONE
TZID:Brazil/East
X-LIC-LOCATION:Brazil/East
BEGIN:STANDARD
DTSTART;VALUE=DATE-TIME:20170218T230000
TZNAME:BRT
TZOFFSETFROM:-0200
TZOFFSETTO:-0300
END:STANDARD
END:VTIMEZONE
END:VCALENDAR
