BEGIN:VCALENDAR
VERSION:2.0
PRODID:-//Plone.org//NONSGML plone.app.event//EN
X-WR-TIMEZONE:Brazil/East
BEGIN:VEVENT
SUMMARY:REUNIÃO DA AÇÃO DA MULHER TRABALHISTA DO PDT.
DTSTART;TZID=Brazil/East;VALUE=DATE-TIME:20171125T080000
DTEND;TZID=Brazil/East;VALUE=DATE-TIME:20171125T120000
DTSTAMP;VALUE=DATE-TIME:20260421T151504Z
UID:f4a3b5f018ff4e1db394971aab5c19b3@www.goiania.go.leg.br
CONTACT:VEREADOR PAULINHO GRAUS
CREATED;VALUE=DATE-TIME:20171101T122509Z
LAST-MODIFIED;VALUE=DATE-TIME:20171101T122521Z
LOCATION:AUDITÓRIO CARLOS EURICO
URL:https://www.goiania.go.leg.br/institucional/eventos/reuniao-da-acao-da
 -mulher-trabalhista-do-pdt
END:VEVENT
BEGIN:VTIMEZONE
TZID:Brazil/East
X-LIC-LOCATION:Brazil/East
BEGIN:DAYLIGHT
DTSTART;VALUE=DATE-TIME:20171015T010000
TZNAME:BRST
TZOFFSETFROM:-0300
TZOFFSETTO:-0200
END:DAYLIGHT
END:VTIMEZONE
END:VCALENDAR
