BEGIN:VCALENDAR
VERSION:2.0
PRODID:-//Plone.org//NONSGML plone.app.event//EN
X-WR-TIMEZONE:Brazil/East
BEGIN:VEVENT
SUMMARY:Reunião Comissão Mista- Prestação de Contas Prefeito Iris Reze
 nde
DTSTART;TZID=Brazil/East;VALUE=DATE-TIME:20170220T090000
DTEND;TZID=Brazil/East;VALUE=DATE-TIME:20170220T110000
DTSTAMP;VALUE=DATE-TIME:20260420T111631Z
UID:eacdb1c15a9c4dd1a68e3be0e67bebb3@www.goiania.go.leg.br
CONTACT:Ver. Lucas Kitão
CREATED;VALUE=DATE-TIME:20170220T110747Z
LAST-MODIFIED;VALUE=DATE-TIME:20170220T110756Z
LOCATION:Plenario
URL:https://www.goiania.go.leg.br/institucional/eventos/reuniao-comissao-m
 ista-prestacao-de-contas-prefeito-iris-rezende
END:VEVENT
BEGIN:VTIMEZONE
TZID:Brazil/East
X-LIC-LOCATION:Brazil/East
BEGIN:STANDARD
DTSTART;VALUE=DATE-TIME:20170218T230000
TZNAME:BRT
TZOFFSETFROM:-0200
TZOFFSETTO:-0300
END:STANDARD
END:VTIMEZONE
END:VCALENDAR
