BEGIN:VCALENDAR
VERSION:2.0
PRODID:-//Plone.org//NONSGML plone.app.event//EN
X-WR-TIMEZONE:Brazil/East
BEGIN:VEVENT
SUMMARY:REUNIÃO COM OS SEUS MEMBROS EFETIVOS DA SOCIEDADE BRASILEIRA DE E
 UBIOSE.
DTSTART;TZID=Brazil/East;VALUE=DATE-TIME:20171008T080000
DTEND;TZID=Brazil/East;VALUE=DATE-TIME:20171008T130000
DTSTAMP;VALUE=DATE-TIME:20260421T093011Z
UID:56f34917a33146b4a4694f6b2827f4b2@www.goiania.go.leg.br
CONTACT:VEREADOR ANDREY AZEREDO
CREATED;VALUE=DATE-TIME:20170905T135037Z
LAST-MODIFIED;VALUE=DATE-TIME:20170905T135044Z
LOCATION:AUDITÓRIO CARLOS EURICO
URL:https://www.goiania.go.leg.br/institucional/eventos/reuniao-com-os-seu
 s-membros-efetivos-da-sociedade-brasileira-de-eubiose
END:VEVENT
BEGIN:VTIMEZONE
TZID:Brazil/East
X-LIC-LOCATION:Brazil/East
BEGIN:STANDARD
DTSTART;VALUE=DATE-TIME:20170218T230000
TZNAME:BRT
TZOFFSETFROM:-0200
TZOFFSETTO:-0300
END:STANDARD
END:VTIMEZONE
END:VCALENDAR
