BEGIN:VCALENDAR
VERSION:2.0
PRODID:-//Plone.org//NONSGML plone.app.event//EN
X-WR-TIMEZONE:Brazil/East
BEGIN:VEVENT
SUMMARY:REUNIÃO COM OS SERVIDORES PARA ESCLARECIMENTO DE DÚVIDAS SOBRE P
 ROCESSO LEGISLATIVO.
DTSTART;TZID=Brazil/East;VALUE=DATE-TIME:20170428T080000
DTEND;TZID=Brazil/East;VALUE=DATE-TIME:20170428T120000
DTSTAMP;VALUE=DATE-TIME:20260420T214043Z
UID:b5ef12ab334b4fc4af629e9c54ed1e10@www.goiania.go.leg.br
CONTACT:PAULO DE TARSO LÉDA
CREATED;VALUE=DATE-TIME:20170418T113701Z
LAST-MODIFIED;VALUE=DATE-TIME:20170418T113707Z
LOCATION:SALA DE REUNIÃO DA PRESIDÊNCIA
URL:https://www.goiania.go.leg.br/institucional/eventos/reuniao-com-os-ser
 vidores-para-esclarecimento-de-duvidas-sobre-processo-legislativo
END:VEVENT
BEGIN:VTIMEZONE
TZID:Brazil/East
X-LIC-LOCATION:Brazil/East
BEGIN:STANDARD
DTSTART;VALUE=DATE-TIME:20170218T230000
TZNAME:BRT
TZOFFSETFROM:-0200
TZOFFSETTO:-0300
END:STANDARD
END:VTIMEZONE
END:VCALENDAR
