BEGIN:VCALENDAR
VERSION:2.0
PRODID:-//Plone.org//NONSGML plone.app.event//EN
X-WR-TIMEZONE:Brazil/East
BEGIN:VEVENT
SUMMARY:REUNIÃO COM OS MOTO TAXISTAS.
DTSTART;TZID=Brazil/East;VALUE=DATE-TIME:20170203T090000
DTEND;TZID=Brazil/East;VALUE=DATE-TIME:20170203T120000
DTSTAMP;VALUE=DATE-TIME:20260420T100238Z
UID:74e6711fa4504993b0e5923be06c8ec7@www.goiania.go.leg.br
CONTACT:VEREADOR CABO SENA
CREATED;VALUE=DATE-TIME:20170203T103840Z
LAST-MODIFIED;VALUE=DATE-TIME:20170203T103849Z
LOCATION:AUDITÓRIO CARLOS EURICO
URL:https://www.goiania.go.leg.br/institucional/eventos/reuniao-com-os-mot
 o-taxistas
END:VEVENT
BEGIN:VTIMEZONE
TZID:Brazil/East
X-LIC-LOCATION:Brazil/East
BEGIN:DAYLIGHT
DTSTART;VALUE=DATE-TIME:20161016T010000
TZNAME:BRST
TZOFFSETFROM:-0300
TZOFFSETTO:-0200
END:DAYLIGHT
END:VTIMEZONE
END:VCALENDAR
