BEGIN:VCALENDAR
VERSION:2.0
PRODID:-//Plone.org//NONSGML plone.app.event//EN
X-WR-TIMEZONE:Brazil/East
BEGIN:VEVENT
SUMMARY:REUNIÃO COM OS MEMBROS DA COMISSÃO DE SAÚDE.
DTSTART;TZID=Brazil/East;VALUE=DATE-TIME:20171116T143000
DTEND;TZID=Brazil/East;VALUE=DATE-TIME:20171116T163000
DTSTAMP;VALUE=DATE-TIME:20260421T183556Z
UID:11761806fb1543c7b63182fe803e665f@www.goiania.go.leg.br
CONTACT:VEREADOR DR. PAULO DAHER
CREATED;VALUE=DATE-TIME:20171116T110429Z
LAST-MODIFIED;VALUE=DATE-TIME:20171116T110437Z
LOCATION:SALA DE REUNIÃO DAS COMISSÕES
URL:https://www.goiania.go.leg.br/institucional/eventos/reuniao-com-os-mem
 bros-da-comissao-de-saude-1
END:VEVENT
BEGIN:VTIMEZONE
TZID:Brazil/East
X-LIC-LOCATION:Brazil/East
BEGIN:DAYLIGHT
DTSTART;VALUE=DATE-TIME:20171015T010000
TZNAME:BRST
TZOFFSETFROM:-0300
TZOFFSETTO:-0200
END:DAYLIGHT
END:VTIMEZONE
END:VCALENDAR
