BEGIN:VCALENDAR
VERSION:2.0
PRODID:-//Plone.org//NONSGML plone.app.event//EN
X-WR-TIMEZONE:Brazil/East
BEGIN:VEVENT
SUMMARY:REUNIÃO COM OS FUNCIONÁRIOS DO GABINETE DO VEREADOR VINICIUS CIR
 QUEIRA.
DTSTART;TZID=Brazil/East;VALUE=DATE-TIME:20170126T080000
DTEND;TZID=Brazil/East;VALUE=DATE-TIME:20170126T180000
DTSTAMP;VALUE=DATE-TIME:20260420T084707Z
UID:0f9bdd5b60f84b4a896a123e8c80103d@www.goiania.go.leg.br
CONTACT:VEREADOR VINICIUS CIRQUEIRA
CREATED;VALUE=DATE-TIME:20170120T142416Z
LAST-MODIFIED;VALUE=DATE-TIME:20170120T142421Z
LOCATION:SALA DE REUNIÕES DAS COMISSÕES
URL:https://www.goiania.go.leg.br/institucional/eventos/reuniao-com-os-fun
 cionarios-do-gabinete-do-vereador-vinicius-cirqueira-1
END:VEVENT
BEGIN:VTIMEZONE
TZID:Brazil/East
X-LIC-LOCATION:Brazil/East
BEGIN:DAYLIGHT
DTSTART;VALUE=DATE-TIME:20161016T010000
TZNAME:BRST
TZOFFSETFROM:-0300
TZOFFSETTO:-0200
END:DAYLIGHT
END:VTIMEZONE
END:VCALENDAR
