BEGIN:VCALENDAR
VERSION:2.0
PRODID:-//Plone.org//NONSGML plone.app.event//EN
X-WR-TIMEZONE:Brazil/East
BEGIN:VEVENT
SUMMARY:REUNIÃO COM OS ASSESSORES DO VEREADOR ANDERSON SALES - BOKÃO.
DTSTART;TZID=Brazil/East;VALUE=DATE-TIME:20170526T160000
DTEND;TZID=Brazil/East;VALUE=DATE-TIME:20170526T180000
DTSTAMP;VALUE=DATE-TIME:20260420T222029Z
UID:60d4ce5be170438d82924cdfebb03c4e@www.goiania.go.leg.br
CONTACT:VEREADOR ANDERSON  SALES - BOKÃO
CREATED;VALUE=DATE-TIME:20170502T112022Z
LAST-MODIFIED;VALUE=DATE-TIME:20170502T112030Z
LOCATION:SALA DE REUNIÃO DAS COMISSÕES
URL:https://www.goiania.go.leg.br/institucional/eventos/reuniao-com-os-ass
 essores-do-vereador-anderson-sales-bokao
END:VEVENT
BEGIN:VTIMEZONE
TZID:Brazil/East
X-LIC-LOCATION:Brazil/East
BEGIN:STANDARD
DTSTART;VALUE=DATE-TIME:20170218T230000
TZNAME:BRT
TZOFFSETFROM:-0200
TZOFFSETTO:-0300
END:STANDARD
END:VTIMEZONE
END:VCALENDAR
