BEGIN:VCALENDAR
VERSION:2.0
PRODID:-//Plone.org//NONSGML plone.app.event//EN
X-WR-TIMEZONE:Brazil/East
BEGIN:VEVENT
SUMMARY:REUNIÃO COM OS ASSESSORES DO GABIENTE DO VEREADOR ANDERSON SALES 
 - BOKÃO.
DTSTART;TZID=Brazil/East;VALUE=DATE-TIME:20170331T090000
DTEND;TZID=Brazil/East;VALUE=DATE-TIME:20170331T120000
DTSTAMP;VALUE=DATE-TIME:20260420T131735Z
UID:ab7fc17611b441ddbfd908c3883f0dc9@www.goiania.go.leg.br
CONTACT:VEREADOR ANDERSON SALES - BOKÃO
CREATED;VALUE=DATE-TIME:20170310T114849Z
LAST-MODIFIED;VALUE=DATE-TIME:20170310T114903Z
LOCATION:SALA DE REUNIÕES DAS COMISSÕES
URL:https://www.goiania.go.leg.br/institucional/eventos/reuniao-com-os-ass
 essores-do-gabiente-do-vereador-anderson-sales-bokao
END:VEVENT
BEGIN:VTIMEZONE
TZID:Brazil/East
X-LIC-LOCATION:Brazil/East
BEGIN:STANDARD
DTSTART;VALUE=DATE-TIME:20170218T230000
TZNAME:BRT
TZOFFSETFROM:-0200
TZOFFSETTO:-0300
END:STANDARD
END:VTIMEZONE
END:VCALENDAR
