BEGIN:VCALENDAR
VERSION:2.0
PRODID:-//Plone.org//NONSGML plone.app.event//EN
X-WR-TIMEZONE:Brazil/East
BEGIN:VEVENT
SUMMARY:REUNIÃO COM ÓRGÃOS DA PREFEITURA DE GOIÂNIA E COMUNIDADE.
DTSTART;TZID=Brazil/East;VALUE=DATE-TIME:20171008T140000
DTEND;TZID=Brazil/East;VALUE=DATE-TIME:20171008T160000
DTSTAMP;VALUE=DATE-TIME:20260421T141150Z
UID:4de0994fe388439b8660f6181d35e9a0@www.goiania.go.leg.br
CONTACT:VEREADOR PAULO MAGALHÃES
CREATED;VALUE=DATE-TIME:20171019T124320Z
LAST-MODIFIED;VALUE=DATE-TIME:20171020T111432Z
LOCATION:SALA DE REUNIÃO DA PRESIDÊNCIA
URL:https://www.goiania.go.leg.br/institucional/eventos/reuniao-com-orgaos
 -da-prefeitura-de-goiania-e-comunidade
END:VEVENT
BEGIN:VTIMEZONE
TZID:Brazil/East
X-LIC-LOCATION:Brazil/East
BEGIN:STANDARD
DTSTART;VALUE=DATE-TIME:20170218T230000
TZNAME:BRT
TZOFFSETFROM:-0200
TZOFFSETTO:-0300
END:STANDARD
END:VTIMEZONE
END:VCALENDAR
