BEGIN:VCALENDAR
VERSION:2.0
PRODID:-//Plone.org//NONSGML plone.app.event//EN
X-WR-TIMEZONE:Brazil/East
BEGIN:VEVENT
SUMMARY:REUNIÃO COM O VEREADOR ANSELMO PEREIRA.
DTSTART;TZID=Brazil/East;VALUE=DATE-TIME:20160825T183000
DTEND;TZID=Brazil/East;VALUE=DATE-TIME:20160825T220000
DTSTAMP;VALUE=DATE-TIME:20260420T050124Z
UID:3ca9dcd8877a426dbf93a238910b2c88@www.goiania.go.leg.br
CONTACT:VEREADOR ANSELMO PEREIRA
CREATED;VALUE=DATE-TIME:20160823T134938Z
LAST-MODIFIED;VALUE=DATE-TIME:20160823T134944Z
LOCATION:SALA DE REUNIÃO DAS COMISSÕES
URL:https://www.goiania.go.leg.br/institucional/eventos/reuniao-com-o-vere
 ador-anselmo-pereira
END:VEVENT
BEGIN:VTIMEZONE
TZID:Brazil/East
X-LIC-LOCATION:Brazil/East
BEGIN:STANDARD
DTSTART;VALUE=DATE-TIME:20160220T230000
TZNAME:BRT
TZOFFSETFROM:-0200
TZOFFSETTO:-0300
END:STANDARD
END:VTIMEZONE
END:VCALENDAR
