BEGIN:VCALENDAR
VERSION:2.0
PRODID:-//Plone.org//NONSGML plone.app.event//EN
X-WR-TIMEZONE:Brazil/East
BEGIN:VEVENT
SUMMARY:REUNIÃO COM O SEGMENTO FARMACÊUTICO.
DTSTART;TZID=Brazil/East;VALUE=DATE-TIME:20170620T143000
DTEND;TZID=Brazil/East;VALUE=DATE-TIME:20170620T180000
DTSTAMP;VALUE=DATE-TIME:20260421T030111Z
UID:c1722744bac84c6da05594e90e73b3d2@www.goiania.go.leg.br
CONTACT:VEREADOR ANSELMO PEREIRA
CREATED;VALUE=DATE-TIME:20170614T101142Z
LAST-MODIFIED;VALUE=DATE-TIME:20170614T101151Z
LOCATION:SALA DE REUNIÃO DAS COMISSÕES
URL:https://www.goiania.go.leg.br/institucional/eventos/reuniao-com-o-segm
 ento-farmaceutico-1
END:VEVENT
BEGIN:VTIMEZONE
TZID:Brazil/East
X-LIC-LOCATION:Brazil/East
BEGIN:STANDARD
DTSTART;VALUE=DATE-TIME:20170218T230000
TZNAME:BRT
TZOFFSETFROM:-0200
TZOFFSETTO:-0300
END:STANDARD
END:VTIMEZONE
END:VCALENDAR
