BEGIN:VCALENDAR
VERSION:2.0
PRODID:-//Plone.org//NONSGML plone.app.event//EN
X-WR-TIMEZONE:Brazil/East
BEGIN:VEVENT
SUMMARY:REUNIÃO COM ASSESSORIA DO VEREADOR DR. BERNARDO DO CAIS.
DTSTART;TZID=Brazil/East;VALUE=DATE-TIME:20160701T090000
DTEND;TZID=Brazil/East;VALUE=DATE-TIME:20160701T120000
DTSTAMP;VALUE=DATE-TIME:20260420T003420Z
UID:df8e3d4e856e44258999dca0d74625e3@www.goiania.go.leg.br
CONTACT:VEREADOR DR. BERNARDO DO CAIS
CREATED;VALUE=DATE-TIME:20160630T155110Z
LAST-MODIFIED;VALUE=DATE-TIME:20160630T155114Z
LOCATION:SALA DE REUNIÕES DAS COMISSÕES
URL:https://www.goiania.go.leg.br/institucional/eventos/reuniao-com-assess
 oria-do-vereador-dr-bernardo-do-cais-1
END:VEVENT
BEGIN:VTIMEZONE
TZID:Brazil/East
X-LIC-LOCATION:Brazil/East
BEGIN:STANDARD
DTSTART;VALUE=DATE-TIME:20160220T230000
TZNAME:BRT
TZOFFSETFROM:-0200
TZOFFSETTO:-0300
END:STANDARD
END:VTIMEZONE
END:VCALENDAR
