BEGIN:VCALENDAR
VERSION:2.0
PRODID:-//Plone.org//NONSGML plone.app.event//EN
X-WR-TIMEZONE:Brazil/East
BEGIN:VEVENT
SUMMARY:REUNIÃO COM ASSESSORIA DO VEREADOR ANTÔNIO UCHÔA.
DTSTART;TZID=Brazil/East;VALUE=DATE-TIME:20160618T100000
DTEND;TZID=Brazil/East;VALUE=DATE-TIME:20160618T120000
DTSTAMP;VALUE=DATE-TIME:20260419T232534Z
UID:fb52518b643645549b4edbd9236b37f6@www.goiania.go.leg.br
CONTACT:VEREADOR ANTÔNIO UCHÔA
CREATED;VALUE=DATE-TIME:20160616T150746Z
LAST-MODIFIED;VALUE=DATE-TIME:20160616T150751Z
LOCATION:SALA DE REUNIÕES DAS COMISSÕES
URL:https://www.goiania.go.leg.br/institucional/eventos/reuniao-com-assess
 oria-do-vereador-antonio-uchoa
END:VEVENT
BEGIN:VTIMEZONE
TZID:Brazil/East
X-LIC-LOCATION:Brazil/East
BEGIN:STANDARD
DTSTART;VALUE=DATE-TIME:20160220T230000
TZNAME:BRT
TZOFFSETFROM:-0200
TZOFFSETTO:-0300
END:STANDARD
END:VTIMEZONE
END:VCALENDAR
